{
 "currentVersion": 10.91,
 "cimVersion": "2.9.0",
 "serviceDescription": "2011 Orthophoto - Orthoimagery data produced for the District of Columbia on December 28 and 29 of 2011. Due to P-56 area flight restrictions, several sensitive areas were not captured. These areas were filled in with our Ortho 2010. The project area for the 2011 project covers the entire District of Columbia and immediate surrounding area equaling approximately 80 square miles. A single corresponding MrSid image (mg3) was created by mosaicking the 328 ortho tiles together and compressing the image using an 15 to 1 compression ratio. All DC GIS data is stored and exported in Maryland State Plane coordinates NAD 83 meters.",
 "mapName": "Ortho 2011",
 "description": "Ortho 2011 Hybrid Map Service provided by DC GIS, flown on December 28 and 29 of 2011",
 "copyrightText": "Pictometry Inc.",
 "supportsDynamicLayers": false,
 "layers": [
  {
   "id": 0,
   "name": "Ortho2011.sid",
   "parentLayerId": -1,
   "defaultVisibility": true,
   "subLayerIds": null,
   "minScale": 0,
   "maxScale": 0,
   "type": "Raster Layer",
   "supportsDynamicLegends": true
  },
  {
   "id": 1,
   "name": "Ortho2010.sid",
   "parentLayerId": -1,
   "defaultVisibility": true,
   "subLayerIds": null,
   "minScale": 0,
   "maxScale": 0,
   "type": "Raster Layer",
   "supportsDynamicLegends": true
  }
 ],
 "tables": [],
 "spatialReference": {
  "wkid": 26985,
  "latestWkid": 26985,
  "xyTolerance": 0.001,
  "zTolerance": 0.001,
  "mTolerance": 0.001,
  "falseX": -36747100,
  "falseY": -29091500,
  "xyUnits": 1.2123691021292362E8,
  "falseZ": -100000,
  "zUnits": 10000,
  "falseM": -100000,
  "mUnits": 10000
 },
 "singleFusedMapCache": true,
 "tileInfo": {
  "rows": 512,
  "cols": 512,
  "dpi": 120,
  "format": "MIXED",
  "compressionQuality": 75,
  "origin": {
   "x": 379605.402,
   "y": 148256.304
  },
  "spatialReference": {
   "wkid": 26985,
   "latestWkid": 26985,
   "xyTolerance": 0.001,
   "zTolerance": 0.001,
   "mTolerance": 0.001,
   "falseX": -36747100,
   "falseY": -29091500,
   "xyUnits": 1.2123691021292362E8,
   "falseZ": -100000,
   "zUnits": 10000,
   "falseM": -100000,
   "mUnits": 10000
  },
  "lods": [
   {
    "level": 0,
    "resolution": 63.50012700025401,
    "scale": 300000
   },
   {
    "level": 1,
    "resolution": 42.33341800016934,
    "scale": 200000
   },
   {
    "level": 2,
    "resolution": 21.16670900008467,
    "scale": 100000
   },
   {
    "level": 3,
    "resolution": 10.583354500042335,
    "scale": 50000
   },
   {
    "level": 4,
    "resolution": 5.291677250021167,
    "scale": 25000
   },
   {
    "level": 5,
    "resolution": 2.54000508001016,
    "scale": 12000
   },
   {
    "level": 6,
    "resolution": 1.27000254000508,
    "scale": 6000
   },
   {
    "level": 7,
    "resolution": 0.63500127000254,
    "scale": 3000
   },
   {
    "level": 8,
    "resolution": 0.31750063500127,
    "scale": 1500
   },
   {
    "level": 9,
    "resolution": 0.21166709000084669,
    "scale": 1000
   },
   {
    "level": 10,
    "resolution": 0.10583354500042334,
    "scale": 500
   }
  ]
 },
 "storageInfo": {
  "storageFormat": "esriMapCacheStorageModeCompactV2",
  "packetSize": 128
 },
 "initialExtent": {
  "xmin": 368242.9331986405,
  "ymin": 112629.77482567981,
  "xmax": 430087.1652490692,
  "ymax": 159770.225174323,
  "spatialReference": {
   "wkid": 26985,
   "latestWkid": 26985,
   "xyTolerance": 0.001,
   "zTolerance": 0.001,
   "mTolerance": 0.001,
   "falseX": -36747100,
   "falseY": -29091500,
   "xyUnits": 1.2123691021292362E8,
   "falseZ": -100000,
   "zUnits": 10000,
   "falseM": -100000,
   "mUnits": 10000
  }
 },
 "fullExtent": {
  "xmin": 389399.9999999996,
  "ymin": 124199.99999999534,
  "xmax": 408930.0984477109,
  "ymax": 148199.99999999814,
  "spatialReference": {
   "wkid": 26985,
   "latestWkid": 26985,
   "xyTolerance": 0.001,
   "zTolerance": 0.001,
   "mTolerance": 0.001,
   "falseX": -36747100,
   "falseY": -29091500,
   "xyUnits": 1.2123691021292362E8,
   "falseZ": -100000,
   "zUnits": 10000,
   "falseM": -100000,
   "mUnits": 10000
  }
 },
 "datesInUnknownTimezone": false,
 "minScale": 300000,
 "maxScale": 500,
 "units": "esriMeters",
 "supportedImageFormatTypes": "PNG32,PNG24,PNG,JPG,DIB,TIFF,EMF,PS,PDF,GIF,SVG,SVGZ,BMP",
 "documentInfo": {
  "Title": "Ortho 2011",
  "Author": "",
  "Comments": "Ortho 2011 Hybrid Map Service provided by DC GIS, flown on December 28 and 29 of 2011",
  "Subject": "Map Service for Ortho 2011",
  "Category": "",
  "AntialiasingMode": "None",
  "TextAntialiasingMode": "Force",
  "Version": "2.9.0",
  "Keywords": "aerial photography,orthophoto,pictometry,District of Columbia"
 },
 "supportsQueryDomains": true,
 "capabilities": "Map,Query,Data",
 "supportedQueryFormats": "JSON, geoJSON, PBF",
 "exportTilesAllowed": false,
 "referenceScale": 0.0,
 "datumTransformations": [
  {
   "geoTransforms": [
    {
     "wkid": 108001,
     "latestWkid": 1241,
     "transformForward": true,
     "name": "NAD_1927_To_NAD_1983_NADCON"
    }
   ]
  },
  {
   "geoTransforms": [
    {
     "wkid": 108001,
     "latestWkid": 1241,
     "transformForward": false,
     "name": "NAD_1927_To_NAD_1983_NADCON"
    }
   ]
  }
 ],
 "supportsDatumTransformation": true,
 "archivingInfo": {
  "supportsHistoricMoment": false
 },
 "supportsClipping": true,
 "supportsSpatialFilter": true,
 "supportsTimeRelation": true,
 "supportsQueryDataElements": true,
 "maxRecordCount": 1000,
 "maxImageHeight": 4096,
 "maxImageWidth": 4096,
 "supportedExtensions": "KmlServer, WMSServer"
}
